BEGIN:VCALENDAR
VERSION:2.0
PRODID:-//Bromsgrove Arts - ECPv6.15.20//NONSGML v1.0//EN
CALSCALE:GREGORIAN
METHOD:PUBLISH
X-WR-CALNAME:Bromsgrove Arts
X-ORIGINAL-URL:https://bromsgrovearts.org.uk
X-WR-CALDESC:Events for Bromsgrove Arts
REFRESH-INTERVAL;VALUE=DURATION:PT1H
X-Robots-Tag:noindex
X-PUBLISHED-TTL:PT1H
BEGIN:VTIMEZONE
TZID:Europe/London
BEGIN:DAYLIGHT
TZOFFSETFROM:+0000
TZOFFSETTO:+0100
TZNAME:BST
DTSTART:20250330T010000
END:DAYLIGHT
BEGIN:STANDARD
TZOFFSETFROM:+0100
TZOFFSETTO:+0000
TZNAME:GMT
DTSTART:20251026T010000
END:STANDARD
BEGIN:DAYLIGHT
TZOFFSETFROM:+0000
TZOFFSETTO:+0100
TZNAME:BST
DTSTART:20260329T010000
END:DAYLIGHT
BEGIN:STANDARD
TZOFFSETFROM:+0100
TZOFFSETTO:+0000
TZNAME:GMT
DTSTART:20261025T010000
END:STANDARD
BEGIN:DAYLIGHT
TZOFFSETFROM:+0000
TZOFFSETTO:+0100
TZNAME:BST
DTSTART:20270328T010000
END:DAYLIGHT
BEGIN:STANDARD
TZOFFSETFROM:+0100
TZOFFSETTO:+0000
TZNAME:GMT
DTSTART:20271031T010000
END:STANDARD
END:VTIMEZONE
BEGIN:VEVENT
DTSTART;TZID=Europe/London:20260415T193000
DTEND;TZID=Europe/London:20260415T215000
DTSTAMP:20260423T220218
CREATED:20260216T192050Z
LAST-MODIFIED:20260216T192050Z
UID:10000216-1776281400-1776289800@bromsgrovearts.org.uk
SUMMARY:Hamnet
DESCRIPTION:After losing their son Hamnet to plague\, Agnes and William Shakespeare grapple with grief in 16th-century England. A healer\, Agnes must find strength to care for her surviving children while processing her devastating loss. \n  \nBBFC:  12A
URL:https://bromsgrovearts.org.uk/event/hamnet-2/
LOCATION:Bromsgrove Arts @ Fairfield Village Hall\, Stourbridge Road\, Fairfield\, Worcestershire\, B61 9LZ\, United Kingdom
CATEGORIES:Movie
ATTACH;FMTTYPE=image/jpeg:https://bromsgrovearts.org.uk/wp-content/uploads/2026/02/Hamnet.jpg
ORGANIZER;CN="Bromsgrove Arts":MAILTO:hello@bromsgrovearts.org.uk
END:VEVENT
BEGIN:VEVENT
DTSTART;TZID=Europe/London:20260415T143000
DTEND;TZID=Europe/London:20260415T165000
DTSTAMP:20260423T220218
CREATED:20260216T191722Z
LAST-MODIFIED:20260216T191722Z
UID:10000215-1776263400-1776271800@bromsgrovearts.org.uk
SUMMARY:Hamnet
DESCRIPTION:After losing their son Hamnet to plague\, Agnes and William Shakespeare grapple with grief in 16th-century England. A healer\, Agnes must find strength to care for her surviving children while processing her devastating loss. \n  \nBBFC:  12A
URL:https://bromsgrovearts.org.uk/event/hamnet/
LOCATION:Bromsgrove Arts @ Fairfield Village Hall\, Stourbridge Road\, Fairfield\, Worcestershire\, B61 9LZ\, United Kingdom
CATEGORIES:Movie
ATTACH;FMTTYPE=image/jpeg:https://bromsgrovearts.org.uk/wp-content/uploads/2026/02/Hamnet.jpg
ORGANIZER;CN="Bromsgrove Arts":MAILTO:hello@bromsgrovearts.org.uk
END:VEVENT
BEGIN:VEVENT
DTSTART;TZID=Europe/London:20260402T110000
DTEND;TZID=Europe/London:20260402T125000
DTSTAMP:20260423T220218
CREATED:20260117T111242Z
LAST-MODIFIED:20260117T111242Z
UID:10000209-1775127600-1775134200@bromsgrovearts.org.uk
SUMMARY:The SpongeBob Movie: Search for SquarePants
DESCRIPTION:SpongeBob and his Bikini Bottom friends set sail in their biggest\, all-new\, can’t miss cinematic event ever…The SpongeBob Movie: Search for SquarePants. Desperate to be a big guy\, SpongeBob sets out to prove his bravery to Mr. Krabs by following The Flying Dutchman – a mysterious swashbuckling ghost pirate – on a seafaring comedy-adventure that takes him to the deepest depths of the deep sea\, where no Sponge has gone before. \n  \nChildren must be accompanied by an adult.\nIncluded in the admission\, free squash for the children \n  \nBBFC:  PG
URL:https://bromsgrovearts.org.uk/event/the-spongebob-movie-search-for-squarepants/
LOCATION:Bromsgrove Arts @ Fairfield Village Hall\, Stourbridge Road\, Fairfield\, Worcestershire\, B61 9LZ\, United Kingdom
CATEGORIES:Movie
ATTACH;FMTTYPE=image/png:https://bromsgrovearts.org.uk/wp-content/uploads/2026/01/The-SpongeBob-Movie-Search-for-SquarePants.png
ORGANIZER;CN="Bromsgrove Arts":MAILTO:hello@bromsgrovearts.org.uk
END:VEVENT
END:VCALENDAR